BEGIN:VCALENDAR
VERSION:2.0
PRODID:-//Centro Studi Americani - ECPv6.15.20//NONSGML v1.0//EN
CALSCALE:GREGORIAN
METHOD:PUBLISH
X-WR-CALNAME:Centro Studi Americani
X-ORIGINAL-URL:https://centrostudiamericani.org
X-WR-CALDESC:Eventi per Centro Studi Americani
REFRESH-INTERVAL;VALUE=DURATION:PT1H
X-Robots-Tag:noindex
X-PUBLISHED-TTL:PT1H
BEGIN:VTIMEZONE
TZID:Europe/Rome
BEGIN:DAYLIGHT
TZOFFSETFROM:+0100
TZOFFSETTO:+0200
TZNAME:CEST
DTSTART:20240331T010000
END:DAYLIGHT
BEGIN:STANDARD
TZOFFSETFROM:+0200
TZOFFSETTO:+0100
TZNAME:CET
DTSTART:20241027T010000
END:STANDARD
BEGIN:DAYLIGHT
TZOFFSETFROM:+0100
TZOFFSETTO:+0200
TZNAME:CEST
DTSTART:20250330T010000
END:DAYLIGHT
BEGIN:STANDARD
TZOFFSETFROM:+0200
TZOFFSETTO:+0100
TZNAME:CET
DTSTART:20251026T010000
END:STANDARD
BEGIN:DAYLIGHT
TZOFFSETFROM:+0100
TZOFFSETTO:+0200
TZNAME:CEST
DTSTART:20260329T010000
END:DAYLIGHT
BEGIN:STANDARD
TZOFFSETFROM:+0200
TZOFFSETTO:+0100
TZNAME:CET
DTSTART:20261025T010000
END:STANDARD
END:VTIMEZONE
BEGIN:VEVENT
DTSTART;TZID=Europe/Rome:20250220T180000
DTEND;TZID=Europe/Rome:20250220T193000
DTSTAMP:20260421T204653
CREATED:20250205T143437Z
LAST-MODIFIED:20250205T143437Z
UID:10000135-1740074400-1740079800@centrostudiamericani.org
SUMMARY:Alla ricerca di nuovi equilibri. Il dollaro e l'euro di fronte alle sfide globali
DESCRIPTION:Si terrà il prossimo 20 febbraio alle 18:00\, presso la sede del Centro Studi Americani\, in via Michelangelo Caetani 32\, l’evento dal titolo “Alla ricerca di nuovi equilibri. Il dollaro e l’euro di fronte alle sfide globali”. Il dibattito sarà l’occasione per presentare il libro “A new Bretton Woods for a new world. Reflections on the Future 80 Years After the Bretton Woods Conference”. \nSALUTI \nRoberto Sgalla – Direttore\, Centro Studi Americani \nINTERVENGONO \nVeronica De Romanis – Docente European Economics\, LUISS e Stanford \nDaniele Franco – Direttore scientifico\, Fondazione Cini \nRainer Masera – Preside di Economia\, Università Marconi \nMODERA \nGiorgio Rutelli – Vicedirettore\, Adnkronos \nSaranno presenti gli autori Giovanni Tria e Angelo Federico Arcelli
URL:https://centrostudiamericani.org/event/alla-ricerca-di-nuovi-equilibri-il-dollaro-e-leuro-di-fronte-alle-sfide-globali/
ATTACH;FMTTYPE=image/png:https://centrostudiamericani.org/new/wp-content/uploads/2025/02/Immagine-evidenza-eventi-sito-web-5.png
END:VEVENT
END:VCALENDAR