BEGIN:VCALENDAR
VERSION:2.0
PRODID:-//Centro Studi Americani - ECPv6.15.20//NONSGML v1.0//EN
CALSCALE:GREGORIAN
METHOD:PUBLISH
X-WR-CALNAME:Centro Studi Americani
X-ORIGINAL-URL:https://centrostudiamericani.org
X-WR-CALDESC:Eventi per Centro Studi Americani
REFRESH-INTERVAL;VALUE=DURATION:PT1H
X-Robots-Tag:noindex
X-PUBLISHED-TTL:PT1H
BEGIN:VTIMEZONE
TZID:Europe/Rome
BEGIN:DAYLIGHT
TZOFFSETFROM:+0100
TZOFFSETTO:+0200
TZNAME:CEST
DTSTART:20250330T010000
END:DAYLIGHT
BEGIN:STANDARD
TZOFFSETFROM:+0200
TZOFFSETTO:+0100
TZNAME:CET
DTSTART:20251026T010000
END:STANDARD
BEGIN:DAYLIGHT
TZOFFSETFROM:+0100
TZOFFSETTO:+0200
TZNAME:CEST
DTSTART:20260329T010000
END:DAYLIGHT
BEGIN:STANDARD
TZOFFSETFROM:+0200
TZOFFSETTO:+0100
TZNAME:CET
DTSTART:20261025T010000
END:STANDARD
BEGIN:DAYLIGHT
TZOFFSETFROM:+0100
TZOFFSETTO:+0200
TZNAME:CEST
DTSTART:20270328T010000
END:DAYLIGHT
BEGIN:STANDARD
TZOFFSETFROM:+0200
TZOFFSETTO:+0100
TZNAME:CET
DTSTART:20271031T010000
END:STANDARD
END:VTIMEZONE
BEGIN:VEVENT
DTSTART;TZID=Europe/Rome:20260218T173000
DTEND;TZID=Europe/Rome:20260218T190000
DTSTAMP:20260421T125625
CREATED:20260209T124324Z
LAST-MODIFIED:20260209T124541Z
UID:10000207-1771435800-1771441200@centrostudiamericani.org
SUMMARY:Presentazione del libro "Custodi della democrazia" di Marta Cartabia
DESCRIPTION:Il prossimo 18 febbraio alle 17:30 si terrà al Centro Studi Americani la presentazione del libro  “Custodi della democrazia. La Costituzione\, le corti e i confini del politico” di Marta Cartabia\, edito Egea.  \n  \nSALUTI \nRoberto Sgalla\, Direttore del Centro Studi Americani \nINTERVENGONO \nGiuliano Amato\, Presidente emerito della Corte Costituzionale e Presidente Onorario del Centro Studi Americani \nLuca Antonini\, Vicepresidente della Corte Costituzionale \nMarta Cartabia\, Università Bocconi e Presidente emerita della Corte costituzionale \nFrancesco Clementi\, Sapienza Università di Roma e CdA Centro Studi Americani \nMODERA \nDonatella Stasio\, giornalista \n  \nL’iniziativa si terrà presso la sede del Centro\, in via Michelangelo Caetani 32\, 00186 Roma. \nRSVP: event@centrostudiamericani.org
URL:https://centrostudiamericani.org/event/presentazione-del-libro-custodi-della-democrazia-di-marta-cartabia/
CATEGORIES:Eventi
ATTACH;FMTTYPE=image/png:https://centrostudiamericani.org/new/wp-content/uploads/2026/02/Immagine-sito-18-febbraio.png
END:VEVENT
BEGIN:VEVENT
DTSTART;TZID=Europe/Rome:20260224T173000
DTEND;TZID=Europe/Rome:20260224T193000
DTSTAMP:20260421T125625
CREATED:20260213T101913Z
LAST-MODIFIED:20260312T212827Z
UID:10000208-1771954200-1771961400@centrostudiamericani.org
SUMMARY:Kiev/Europa/Occidente: quattro anni dopo
DESCRIPTION:Il prossimo 24 febbraio alle 17:30 si terrà al Centro Studi Americani l’evento  “Kiev/Europa/Occidente: quattro anni dopo” in occasione del quarto anniversario dell’inizio del conflitto in Ucraina.  \n  \nSALUTI \nRoberto Sgalla\, Direttore del Centro Studi Americani \nINTERVENGONO \nGreta Cristini\, Analista geopolitica e reporter \nMarta Dassù\, Senior Advisor European Affairs\, The Aspen Institute e CdA Centro Studi Americani \nLucio Martino\, Esperto di politica internazionale \nLuigi Mattiolo\, Ambasciatore\, già consigliere diplomatico di Mario Draghi e ambasciatore in Germania\, Turchia e Israele \nMatteo Perego di Cremnago\, Sottosegretario di Stato al Ministero della difesa italiano \nMODERA \nMario De Pizzo\, Giornalista\, RAI e Nonresident Senior Fellow Atlantic Council \n  \nL’iniziativa si terrà presso la sede del Centro\, in via Michelangelo Caetani 32\, 00186 Roma. \nRSVP: event@centrostudiamericani.org
URL:https://centrostudiamericani.org/event/kiev-europa-occidente-quattro-anni-dopo/
CATEGORIES:Eventi,Homepage
ATTACH;FMTTYPE=image/png:https://centrostudiamericani.org/new/wp-content/uploads/2026/02/Immagine-sito-24-febbraio.png
END:VEVENT
BEGIN:VEVENT
DTSTART;TZID=Europe/Rome:20260225T173000
DTEND;TZID=Europe/Rome:20260225T190000
DTSTAMP:20260421T125625
CREATED:20260218T150755Z
LAST-MODIFIED:20260218T152635Z
UID:10000209-1772040600-1772046000@centrostudiamericani.org
SUMMARY:Bright Lights Bookclub - Incontro di febbraio
DESCRIPTION:📚✨ Bright Lights Bookclub🗓 25 FEBBRAIO | ORE 17:30 \nQuesto mese parliamo di Lucy (1990) di Jamaica Kincaid(ed. italiana Adelphi\, traduzione di Andrea Di Gregorio) \nOspite speciale: Sara Antonelli (Università Roma Tre)\, che ci introdurrà la lettura di marzo: \n✨ La breve favolosa vita di Oscar Wao (2007) di Junot Díaz(ed. italiana Mondadori\, traduzione di Silvia Pareschi). \n📍 In presenza: Biblioteca CSA\, Via Michelangelo Caetani 32💻 Online su prenotazione \n🔗 Per ricevere il link: http://eepurl.com/iFEz2U📩 library@centrostudiamericani.org \nTi aspettiamo per leggere e confrontarci insieme! 💬📖
URL:https://centrostudiamericani.org/event/bright-lights-bookclub-incontro-di-febbraio-2/
LOCATION:Centro Studi Americani\, Via Michelangelo Caetani\, 32\, Roma\, RM\, 00186\, Italy
CATEGORIES:Bookclub,Cultural Bridge,Eventi
ATTACH;FMTTYPE=image/png:https://centrostudiamericani.org/new/wp-content/uploads/2026/02/BLB-FEB-SITO.png
END:VEVENT
END:VCALENDAR