BEGIN:VCALENDAR
VERSION:2.0
PRODID:-//Centro Studi Americani - ECPv6.15.20//NONSGML v1.0//EN
CALSCALE:GREGORIAN
METHOD:PUBLISH
X-ORIGINAL-URL:https://centrostudiamericani.org
X-WR-CALDESC:Eventi per Centro Studi Americani
REFRESH-INTERVAL;VALUE=DURATION:PT1H
X-Robots-Tag:noindex
X-PUBLISHED-TTL:PT1H
BEGIN:VTIMEZONE
TZID:Europe/Rome
BEGIN:DAYLIGHT
TZOFFSETFROM:+0100
TZOFFSETTO:+0200
TZNAME:CEST
DTSTART:20250330T010000
END:DAYLIGHT
BEGIN:STANDARD
TZOFFSETFROM:+0200
TZOFFSETTO:+0100
TZNAME:CET
DTSTART:20251026T010000
END:STANDARD
BEGIN:DAYLIGHT
TZOFFSETFROM:+0100
TZOFFSETTO:+0200
TZNAME:CEST
DTSTART:20260329T010000
END:DAYLIGHT
BEGIN:STANDARD
TZOFFSETFROM:+0200
TZOFFSETTO:+0100
TZNAME:CET
DTSTART:20261025T010000
END:STANDARD
BEGIN:DAYLIGHT
TZOFFSETFROM:+0100
TZOFFSETTO:+0200
TZNAME:CEST
DTSTART:20270328T010000
END:DAYLIGHT
BEGIN:STANDARD
TZOFFSETFROM:+0200
TZOFFSETTO:+0100
TZNAME:CET
DTSTART:20271031T010000
END:STANDARD
END:VTIMEZONE
BEGIN:VEVENT
DTSTART;TZID=Europe/Rome:20260218T173000
DTEND;TZID=Europe/Rome:20260218T190000
DTSTAMP:20260421T150336
CREATED:20260209T124324Z
LAST-MODIFIED:20260209T124541Z
UID:10000207-1771435800-1771441200@centrostudiamericani.org
SUMMARY:Presentazione del libro "Custodi della democrazia" di Marta Cartabia
DESCRIPTION:Il prossimo 18 febbraio alle 17:30 si terrà al Centro Studi Americani la presentazione del libro  “Custodi della democrazia. La Costituzione\, le corti e i confini del politico” di Marta Cartabia\, edito Egea.  \n  \nSALUTI \nRoberto Sgalla\, Direttore del Centro Studi Americani \nINTERVENGONO \nGiuliano Amato\, Presidente emerito della Corte Costituzionale e Presidente Onorario del Centro Studi Americani \nLuca Antonini\, Vicepresidente della Corte Costituzionale \nMarta Cartabia\, Università Bocconi e Presidente emerita della Corte costituzionale \nFrancesco Clementi\, Sapienza Università di Roma e CdA Centro Studi Americani \nMODERA \nDonatella Stasio\, giornalista \n  \nL’iniziativa si terrà presso la sede del Centro\, in via Michelangelo Caetani 32\, 00186 Roma. \nRSVP: event@centrostudiamericani.org
URL:https://centrostudiamericani.org/event/presentazione-del-libro-custodi-della-democrazia-di-marta-cartabia/
CATEGORIES:Eventi
ATTACH;FMTTYPE=image/png:https://centrostudiamericani.org/new/wp-content/uploads/2026/02/Immagine-sito-18-febbraio.png
END:VEVENT
END:VCALENDAR